
BEGIN:VCALENDAR
VERSION:2.0
PRODID:-//Center for Children&#039;s Advocacy - ECPv6.15.20//NONSGML v1.0//EN
CALSCALE:GREGORIAN
METHOD:PUBLISH
X-ORIGINAL-URL:https://cca-ct.org
X-WR-CALDESC:Events for Center for Children&#039;s Advocacy
REFRESH-INTERVAL;VALUE=DURATION:PT1H
X-Robots-Tag:noindex
X-PUBLISHED-TTL:PT1H
BEGIN:VTIMEZONE
TZID:America/New_York
BEGIN:DAYLIGHT
TZOFFSETFROM:-0500
TZOFFSETTO:-0400
TZNAME:EDT
DTSTART:20240310T070000
END:DAYLIGHT
BEGIN:STANDARD
TZOFFSETFROM:-0400
TZOFFSETTO:-0500
TZNAME:EST
DTSTART:20241103T060000
END:STANDARD
BEGIN:DAYLIGHT
TZOFFSETFROM:-0500
TZOFFSETTO:-0400
TZNAME:EDT
DTSTART:20250309T070000
END:DAYLIGHT
BEGIN:STANDARD
TZOFFSETFROM:-0400
TZOFFSETTO:-0500
TZNAME:EST
DTSTART:20251102T060000
END:STANDARD
BEGIN:DAYLIGHT
TZOFFSETFROM:-0500
TZOFFSETTO:-0400
TZNAME:EDT
DTSTART:20260308T070000
END:DAYLIGHT
BEGIN:STANDARD
TZOFFSETFROM:-0400
TZOFFSETTO:-0500
TZNAME:EST
DTSTART:20261101T060000
END:STANDARD
END:VTIMEZONE
BEGIN:VEVENT
DTSTART;TZID=America/New_York:20250603T173000
DTEND;TZID=America/New_York:20250603T200000
DTSTAMP:20260421T081858
CREATED:20250414T151402Z
LAST-MODIFIED:20250708T150825Z
UID:10000454-1748971800-1748980800@cca-ct.org
SUMMARY:Spring for Kids 2025
DESCRIPTION:CCA’s flagship fundraising event\, Spring for Kids 2025 on June 3rd was our biggest yet! Welcoming over 230 distinguished guests that represented a diverse range of CCA’s supporters including our 2025 Champions of Children\, Barbara Dalio and Dalio Education\, Krystal Rich\, Erin Williamson and Yvette Young all of whom are Members of the Human Anti-trafficking Response Team (HART) and the Sustainability Award honoree\, the Herbert and Nell Singer Foundation\, CCA’s Board Directors\, current and former staff members\, our event and journal sponsors and community partners\, and the many children\, youth\, families\, and members of CCA’s own Speak Up! youth group. \nSpring for Kids 2025 is a testament to CCA’s leadership role as New England’s largest children’s legal rights organization and thanks to our flagship fundraiser CCA is stronger than ever! We strengthened and welcomed new partnerships\, amplified youth voices\, and secured much-needed resources to continue our life-changing work. Thank YOU! \nWatch the full program recording below. \n 
URL:https://cca-ct.org/events/spring-for-kids-2025/
LOCATION:Dunkin’ Donuts Park
CATEGORIES:Event
END:VEVENT
END:VCALENDAR